BEGIN:VCALENDAR
VERSION:2.0
PRODID:-//L&#039;Orée de la Brie - ECPv6.5.1.4//NONSGML v1.0//EN
CALSCALE:GREGORIAN
METHOD:PUBLISH
X-ORIGINAL-URL:https://www.loreedelabrie.fr
X-WR-CALDESC:Évènements pour L&#039;Orée de la Brie
REFRESH-INTERVAL;VALUE=DURATION:PT1H
X-Robots-Tag:noindex
X-PUBLISHED-TTL:PT1H
BEGIN:VTIMEZONE
TZID:Europe/Paris
BEGIN:DAYLIGHT
TZOFFSETFROM:+0100
TZOFFSETTO:+0200
TZNAME:CEST
DTSTART:20250330T010000
END:DAYLIGHT
BEGIN:STANDARD
TZOFFSETFROM:+0200
TZOFFSETTO:+0100
TZNAME:CET
DTSTART:20251026T010000
END:STANDARD
END:VTIMEZONE
BEGIN:VEVENT
DTSTART;TZID=Europe/Paris:20251001T150000
DTEND;TZID=Europe/Paris:20251001T150000
DTSTAMP:20260421T074628
CREATED:20250925T102436Z
LAST-MODIFIED:20250925T102436Z
UID:15860-1759330800-1759330800@www.loreedelabrie.fr
SUMMARY:[CCOB/MICRO-FOLIE] Les animaux cachés dans le musée
DESCRIPTION:
URL:https://www.loreedelabrie.fr/evenement/ccob-micro-folie-les-animaux-caches-dans-le-musee/
LOCATION:L’Orée de la Brie\, 1 rue Léonard de Vinci\, Brie-Comte-Robert\, 77170\, France
CATEGORIES:Culture,Exposition,Micro-folie
ATTACH;FMTTYPE=image/png:https://www.loreedelabrie.fr/wp-content/uploads/tribe_events/micro-folie.jpg-2.png
ORGANIZER;CN="L'Or%C3%A9e de la Brie":MAILTO:communaute@loreedelabrie.fr
END:VEVENT
BEGIN:VEVENT
DTSTART;TZID=Europe/Paris:20251005T130000
DTEND;TZID=Europe/Paris:20251005T130000
DTSTAMP:20260421T074628
CREATED:20250910T132727Z
LAST-MODIFIED:20250910T134338Z
UID:15713-1759669200-1759669200@www.loreedelabrie.fr
SUMMARY:[VARENNES-JARCY] Quizz
DESCRIPTION:
URL:https://www.loreedelabrie.fr/evenement/quizz/
LOCATION:Salle des fêtes Gérard Josselin\, 14 rue de la Libération\, Varennes-Jarcy\, 91480
CATEGORIES:Culture,Jeux
ATTACH;FMTTYPE=image/jpeg:https://www.loreedelabrie.fr/wp-content/uploads/tribe_events/jeux-olympiques-de-lesprit-AVC.jpg
END:VEVENT
BEGIN:VEVENT
DTSTART;TZID=Europe/Paris:20251011T203000
DTEND;TZID=Europe/Paris:20251011T203000
DTSTAMP:20260421T074628
CREATED:20250923T081350Z
LAST-MODIFIED:20250923T081350Z
UID:15841-1760214600-1760214600@www.loreedelabrie.fr
SUMMARY:[VARENNES-JARCY] Musique Japonaise au 20ème Siècle
DESCRIPTION:
URL:https://www.loreedelabrie.fr/evenement/varennes-jarcy-musique-japonaise-au-20eme-siecle/
LOCATION:Église Saint-Sulpice\, Place Aristide Briand\, Varennes-Jarcy\, 91480\, France
CATEGORIES:Concert,Culture
ATTACH;FMTTYPE=image/jpeg:https://www.loreedelabrie.fr/wp-content/uploads/tribe_events/Concert.jpg
END:VEVENT
BEGIN:VEVENT
DTSTART;TZID=Europe/Paris:20251016T180000
DTEND;TZID=Europe/Paris:20251016T180000
DTSTAMP:20260421T074628
CREATED:20250925T102629Z
LAST-MODIFIED:20250925T102629Z
UID:15862-1760637600-1760637600@www.loreedelabrie.fr
SUMMARY:[CCOB/MICRO-FOLIE] Les femmes peintres
DESCRIPTION:
URL:https://www.loreedelabrie.fr/evenement/ccob-micro-folie-les-femmes-peintres-2/
LOCATION:L’Orée de la Brie\, 1 rue Léonard de Vinci\, Brie-Comte-Robert\, 77170\, France
CATEGORIES:Culture,Exposition,Micro-folie
ATTACH;FMTTYPE=image/png:https://www.loreedelabrie.fr/wp-content/uploads/tribe_events/micro-folie.jpg-2.png
ORGANIZER;CN="L'Or%C3%A9e de la Brie":MAILTO:communaute@loreedelabrie.fr
END:VEVENT
BEGIN:VEVENT
DTSTART;TZID=Europe/Paris:20251018T100000
DTEND;TZID=Europe/Paris:20251018T100000
DTSTAMP:20260421T074628
CREATED:20250925T115617Z
LAST-MODIFIED:20250925T115617Z
UID:15866-1760781600-1760781600@www.loreedelabrie.fr
SUMMARY:[CCOB/MICRO-FOLIE] Les femmes peintres
DESCRIPTION:
URL:https://www.loreedelabrie.fr/evenement/ccob-micro-folie-les-femmes-peintres-3/
LOCATION:L’Orée de la Brie\, 1 rue Léonard de Vinci\, Brie-Comte-Robert\, 77170\, France
CATEGORIES:Culture,Exposition,Micro-folie
ATTACH;FMTTYPE=image/png:https://www.loreedelabrie.fr/wp-content/uploads/tribe_events/micro-folie.jpg-2.png
ORGANIZER;CN="L'Or%C3%A9e de la Brie":MAILTO:communaute@loreedelabrie.fr
END:VEVENT
BEGIN:VEVENT
DTSTART;TZID=Europe/Paris:20251019T090000
DTEND;TZID=Europe/Paris:20251019T123000
DTSTAMP:20260421T074628
CREATED:20250925T120910Z
LAST-MODIFIED:20250925T120910Z
UID:15874-1760864400-1760877000@www.loreedelabrie.fr
SUMMARY:[CCOB/MICRO-FOLIE] Les femmes peintres
DESCRIPTION:
URL:https://www.loreedelabrie.fr/evenement/ccob-micro-folie-les-femmes-peintres-4/
LOCATION:L’Orée de la Brie\, 1 rue Léonard de Vinci\, Brie-Comte-Robert\, 77170\, France
CATEGORIES:Culture,Exposition,Micro-folie
ATTACH;FMTTYPE=image/png:https://www.loreedelabrie.fr/wp-content/uploads/tribe_events/micro-folie.jpg-2.png
ORGANIZER;CN="L'Or%C3%A9e de la Brie":MAILTO:communaute@loreedelabrie.fr
END:VEVENT
BEGIN:VEVENT
DTSTART;TZID=Europe/Paris:20251023T180000
DTEND;TZID=Europe/Paris:20251023T180000
DTSTAMP:20260421T074628
CREATED:20250925T124812Z
LAST-MODIFIED:20250925T124812Z
UID:15876-1761242400-1761242400@www.loreedelabrie.fr
SUMMARY:[CCOB/MICRO-FOLIE] Les années folles
DESCRIPTION:
URL:https://www.loreedelabrie.fr/evenement/ccob-micro-folie-les-annees-folles/
LOCATION:L’Orée de la Brie\, 1 rue Léonard de Vinci\, Brie-Comte-Robert\, 77170\, France
CATEGORIES:Culture,Exposition,Micro-folie
ATTACH;FMTTYPE=image/png:https://www.loreedelabrie.fr/wp-content/uploads/tribe_events/micro-folie.jpg-2.png
ORGANIZER;CN="L'Or%C3%A9e de la Brie":MAILTO:communaute@loreedelabrie.fr
END:VEVENT
BEGIN:VEVENT
DTSTART;TZID=Europe/Paris:20251025T100000
DTEND;TZID=Europe/Paris:20251025T100000
DTSTAMP:20260421T074628
CREATED:20250925T125021Z
LAST-MODIFIED:20250925T125021Z
UID:15880-1761386400-1761386400@www.loreedelabrie.fr
SUMMARY:[CCOB/MICRO-FOLIE] Les années folles
DESCRIPTION:
URL:https://www.loreedelabrie.fr/evenement/ccob-micro-folie-les-annees-folles-2/
LOCATION:L’Orée de la Brie\, 1 rue Léonard de Vinci\, Brie-Comte-Robert\, 77170\, France
CATEGORIES:Culture,Exposition,Micro-folie
ATTACH;FMTTYPE=image/png:https://www.loreedelabrie.fr/wp-content/uploads/tribe_events/micro-folie.jpg-2.png
ORGANIZER;CN="L'Or%C3%A9e de la Brie":MAILTO:communaute@loreedelabrie.fr
END:VEVENT
BEGIN:VEVENT
DTSTART;TZID=Europe/Paris:20251027T140000
DTEND;TZID=Europe/Paris:20251029T160000
DTSTAMP:20260421T074628
CREATED:20251016T094735Z
LAST-MODIFIED:20251016T094812Z
UID:16020-1761573600-1761753600@www.loreedelabrie.fr
SUMMARY:[LES AMIS DU VIEUX CHÂTEAU] Vacances au château : thème Halloween
DESCRIPTION:  \n Vacances au Château – Spécial Halloween ! \nDu lundi 27 au mercredi 29 octobre\, le château se transforme pour vous accueillir\, petits et grands…\nOserez-vous franchir ses portes ? \n\n Lundi 27 octobre – Visite costumée du château\nViens déguisé(e) et prépare-toi à t’engouffrer dans les tours sombres pour une visite mystérieuse!\n\n Mardi 28 octobre – Atelier Enluminures\nCrée ta propre œuvre inspirée du Moyen Âge… sous le sortilège d’Halloween ! \n\n Mercredi 29 octobre – Atelier Armoiries\nInvente ton blason ensorcelé\, digne des plus grandes familles de chevaliers… ou de monstres ! \n\n Viens vivre 3 jours de frissons\, de rires et de découvertes au cœur du château !\nLes petits sorciers\, princesses maudites et apprentis fantômes sont les bienvenus \n\n Du 27 au 29 octobre\n Costumes vivement conseillés !
URL:https://www.loreedelabrie.fr/evenement/les-amis-du-vieux-chateau-vacances-au-chateau-theme-halloween/
LOCATION:Vieux Château\, Brie-Comte-Robert\, 77170\, France
CATEGORIES:Associatif,Autre,Culture
ATTACH;FMTTYPE=image/jpeg:https://www.loreedelabrie.fr/wp-content/uploads/tribe_events/logo-amis-du-vieux-chateau.jpg
ORGANIZER;CN="Les Amis du Vieux Ch%C3%A2teau":MAILTO:contact@amisduvieuxchateau.org
END:VEVENT
END:VCALENDAR