BEGIN:VCALENDAR
VERSION:2.0
PRODID:-//L&#039;Orée de la Brie - ECPv6.5.1.4//NONSGML v1.0//EN
CALSCALE:GREGORIAN
METHOD:PUBLISH
X-WR-CALNAME:L&#039;Orée de la Brie
X-ORIGINAL-URL:https://www.loreedelabrie.fr
X-WR-CALDESC:Évènements pour L&#039;Orée de la Brie
REFRESH-INTERVAL;VALUE=DURATION:PT1H
X-Robots-Tag:noindex
X-PUBLISHED-TTL:PT1H
BEGIN:VTIMEZONE
TZID:Europe/Paris
BEGIN:DAYLIGHT
TZOFFSETFROM:+0100
TZOFFSETTO:+0200
TZNAME:CEST
DTSTART:20250330T010000
END:DAYLIGHT
BEGIN:STANDARD
TZOFFSETFROM:+0200
TZOFFSETTO:+0100
TZNAME:CET
DTSTART:20251026T010000
END:STANDARD
END:VTIMEZONE
BEGIN:VEVENT
DTSTART;TZID=Europe/Paris:20250606T180000
DTEND;TZID=Europe/Paris:20250606T213000
DTSTAMP:20260421T135547
CREATED:20250528T090044Z
LAST-MODIFIED:20250528T090044Z
UID:15160-1749232800-1749245400@www.loreedelabrie.fr
SUMMARY:[BRIE-COMTE-ROBERT] Rendez-vous au jardin
DESCRIPTION:Profitez d’un moment festif et familial autour du thème Jardins de pierres\, pierres de jardin. Au programme : \n\nBal de mandarine\nà partir de 19h30\, concert 100% dédié aux enfants – dès 2 ans \nPerformance artistique\npar l’artiste Pierre Carbone \nAteliers créatifs\npeinture sur galets et mandalas land art \nAnimations ludiques\njeux en bois et en pierre\, quizz sur la biodiversité locale \nRencontre\navec les Pierre célèbres de Brie \nRestauration\ncrêpes et galettes artisanales (la crêpe enchantée\, paiement en CB et espèces)
URL:https://www.loreedelabrie.fr/evenement/brie-comte-robert-rendez-vous-au-jardin-2/
LOCATION:Jardin Jean-François Millet\, Avenue Jean-Francois Millet\, Brie-Comte-Robert\, 77170\, France
CATEGORIES:Culture,Jardin,Jeux
ATTACH;FMTTYPE=image/jpeg:https://www.loreedelabrie.fr/wp-content/uploads/tribe_events/jardinage.jpg
END:VEVENT
BEGIN:VEVENT
DTSTART;VALUE=DATE:20250607
DTEND;VALUE=DATE:20250614
DTSTAMP:20260421T135547
CREATED:20250603T121023Z
LAST-MODIFIED:20250603T121023Z
UID:15186-1749254400-1749859199@www.loreedelabrie.fr
SUMMARY:[BRIE-COMTE-ROBERT] Exposition "Mémoires pour le futur"
DESCRIPTION:L’exposition mémoires pour le futur investit le centre d’art Hôtel-Dieu jusqu’au 13 juillet. Rendez-vous samedi 7 juin à 11h30 pour le vernissage. \n\n \n\n \n\n\nDans le cadre de sa résidence photographique à Brie\, l’artiste Philippe Do a arpenté notre ville. Il nous invite à la redécouvrir à l’aune de la trichromie. Cette exposition sera nourrie également des œuvres produites lors des ateliers pédagogiques scolaires\, périscolaires et adultes menés lors de cette résidence. L’artiste sera présent pour échanger avec vous sur cette œuvre\, sur cette technique\, sur notre ville. \nEn partenariat avec la galerie HorsChamp. \nOuverture du centre d’art Hôtel-Dieu : mercredi de 15h00 à 18h00\, samedi et dimanche de 10h00 à 13h00 et de 15h00 à 18h00.
URL:https://www.loreedelabrie.fr/evenement/brie-comte-robert-exposition-memoires-pour-le-futur/
LOCATION:centre d’art Hôtel-Dieu\, 2 place des Halles\, Brie-Comte-Robert\, 77170\, France
CATEGORIES:Culture,Exposition
ATTACH;FMTTYPE=image/jpeg:https://www.loreedelabrie.fr/wp-content/uploads/tribe_events/Exposition.jpg
END:VEVENT
END:VCALENDAR