BEGIN:VCALENDAR
VERSION:2.0
PRODID:-//L&#039;Orée de la Brie - ECPv6.5.1.4//NONSGML v1.0//EN
CALSCALE:GREGORIAN
METHOD:PUBLISH
X-WR-CALNAME:L&#039;Orée de la Brie
X-ORIGINAL-URL:https://www.loreedelabrie.fr
X-WR-CALDESC:Évènements pour L&#039;Orée de la Brie
REFRESH-INTERVAL;VALUE=DURATION:PT1H
X-Robots-Tag:noindex
X-PUBLISHED-TTL:PT1H
BEGIN:VTIMEZONE
TZID:Europe/Paris
BEGIN:DAYLIGHT
TZOFFSETFROM:+0100
TZOFFSETTO:+0200
TZNAME:CEST
DTSTART:20240331T010000
END:DAYLIGHT
BEGIN:STANDARD
TZOFFSETFROM:+0200
TZOFFSETTO:+0100
TZNAME:CET
DTSTART:20241027T010000
END:STANDARD
END:VTIMEZONE
BEGIN:VEVENT
DTSTART;TZID=Europe/Paris:20241214T203000
DTEND;TZID=Europe/Paris:20241214T203000
DTSTAMP:20260421T224025
CREATED:20241203T162316Z
LAST-MODIFIED:20241203T162316Z
UID:14232-1734208200-1734208200@www.loreedelabrie.fr
SUMMARY:[BRIE-COMTE-ROBERT] Concert Johnny Mafia
DESCRIPTION:Venez vibrer avec Johnny Mafia\, mélange rock furieux et sensibilité pop avec des refrains indélébiles et une énergie contagieuse.  \n\nSous de puissants murs de guitares\, Johnny Mafia empile des titres furieux aux refrains indélébiles\, empreints d’une étonnante sensibilité pop. Le groupe s’essaie à quelques judicieux arrangements sans perdre de vue l’essentiel. Avec leur énergie contagieuse et leurs mélodies accrocheuses\, il repousse les limites du rock français. \nDécouvrez en 1er partie le projet solo du batteur de Pop Car Crash Control\, Louis La Flemme\, et le groupe Gurl\, entre surf et garage rock. \n  \nhttps://www.briecomterobert.fr/agenda/concert-johnny-mafia/
URL:https://www.loreedelabrie.fr/evenement/brie-comte-robert-concert-johnny-mafia/
LOCATION:Salle de concerts Potomak\, Place Moutier\, Brie-Comte-Robert\, 77170\, France
CATEGORIES:Concert,Culture
ATTACH;FMTTYPE=image/jpeg:https://www.loreedelabrie.fr/wp-content/uploads/tribe_events/Concert.jpg
END:VEVENT
BEGIN:VEVENT
DTSTART;TZID=Europe/Paris:20241230T100000
DTEND;TZID=Europe/Paris:20241230T180000
DTSTAMP:20260421T224025
CREATED:20241219T130107Z
LAST-MODIFIED:20241219T130107Z
UID:14273-1735552800-1735581600@www.loreedelabrie.fr
SUMMARY:[CCOB] [L'ORÉADE] Découvrez le musée numérique
DESCRIPTION:
URL:https://www.loreedelabrie.fr/evenement/ccob-loreade-decouvrez-le-musee-numerique/
LOCATION:L’Oréade\, 4 avenue du Général de Gaulle\, Brie-Comte-Robert\, 77170\, France
CATEGORIES:Culture,Micro-folie
ATTACH;FMTTYPE=image/jpeg:https://www.loreedelabrie.fr/wp-content/uploads/tribe_events/casque-realite-micro-folie.jpg
END:VEVENT
END:VCALENDAR