BEGIN:VCALENDAR
VERSION:2.0
PRODID:-//L&#039;Orée de la Brie - ECPv6.5.1.4//NONSGML v1.0//EN
CALSCALE:GREGORIAN
METHOD:PUBLISH
X-WR-CALNAME:L&#039;Orée de la Brie
X-ORIGINAL-URL:https://www.loreedelabrie.fr
X-WR-CALDESC:Évènements pour L&#039;Orée de la Brie
REFRESH-INTERVAL;VALUE=DURATION:PT1H
X-Robots-Tag:noindex
X-PUBLISHED-TTL:PT1H
BEGIN:VTIMEZONE
TZID:Europe/Paris
BEGIN:DAYLIGHT
TZOFFSETFROM:+0100
TZOFFSETTO:+0200
TZNAME:CEST
DTSTART:20240331T010000
END:DAYLIGHT
BEGIN:STANDARD
TZOFFSETFROM:+0200
TZOFFSETTO:+0100
TZNAME:CET
DTSTART:20241027T010000
END:STANDARD
END:VTIMEZONE
BEGIN:VEVENT
DTSTART;TZID=Europe/Paris:20240209T190000
DTEND;TZID=Europe/Paris:20240209T190000
DTSTAMP:20260422T141043
CREATED:20240119T103455Z
LAST-MODIFIED:20240119T103455Z
UID:12245-1707505200-1707505200@www.loreedelabrie.fr
SUMMARY:[BRIE-COMTE-ROBERT] "Intersection sur la réalité virtuelle"
DESCRIPTION:  \nVous voulez découvrir une autre façon de voyager dans des univers improbables ? À l’aide de casques à réalité virtuelle\, vivez une expérience immersive au cœur d’un monde artificiel. Une sélection de jeux et d’ouvrages complète cette découverte. \nEn partenariat avec la médiathèque départementale. \nRéservation au 01 60 62 64 39
URL:https://www.loreedelabrie.fr/evenement/brie-comte-robert-intersection-sur-la-realite-virtuelle/
LOCATION:Médiathèque de Brie-Comte-Robert\, Place des Déportés\, Brie-Comte-Robert\, 77170\, France
CATEGORIES:Culture
ATTACH;FMTTYPE=image/jpeg:https://www.loreedelabrie.fr/wp-content/uploads/tribe_events/casque-realite-micro-folie.jpg
END:VEVENT
END:VCALENDAR