BEGIN:VCALENDAR
VERSION:2.0
PRODID:-//L&#039;Orée de la Brie - ECPv6.5.1.4//NONSGML v1.0//EN
CALSCALE:GREGORIAN
METHOD:PUBLISH
X-WR-CALNAME:L&#039;Orée de la Brie
X-ORIGINAL-URL:https://www.loreedelabrie.fr
X-WR-CALDESC:Évènements pour L&#039;Orée de la Brie
REFRESH-INTERVAL;VALUE=DURATION:PT1H
X-Robots-Tag:noindex
X-PUBLISHED-TTL:PT1H
BEGIN:VTIMEZONE
TZID:Europe/Paris
BEGIN:DAYLIGHT
TZOFFSETFROM:+0100
TZOFFSETTO:+0200
TZNAME:CEST
DTSTART:20250330T010000
END:DAYLIGHT
BEGIN:STANDARD
TZOFFSETFROM:+0200
TZOFFSETTO:+0100
TZNAME:CET
DTSTART:20251026T010000
END:STANDARD
END:VTIMEZONE
BEGIN:VEVENT
DTSTART;VALUE=DATE:20250921
DTEND;VALUE=DATE:20250922
DTSTAMP:20260422T030054
CREATED:20250514T092001Z
LAST-MODIFIED:20250909T082009Z
UID:15083-1758412800-1758499199@www.loreedelabrie.fr
SUMMARY:[SERVON] La Foulée Servonnaise
DESCRIPTION:La Foulée Servonnaise : dimanche 21 septembre 2024\, courez pour une bonne cause ! Inscriptions à venir. \n 
URL:https://www.loreedelabrie.fr/evenement/servon-la-foulee-servonnaise-2/
LOCATION:Servon\, 15 rue de la Poste\, Servon\, 77170
CATEGORIES:Course
ATTACH;FMTTYPE=image/jpeg:https://www.loreedelabrie.fr/wp-content/uploads/tribe_events/course.jpg
END:VEVENT
END:VCALENDAR