BEGIN:VCALENDAR
VERSION:2.0
PRODID:-//L&#039;Orée de la Brie - ECPv6.5.1.4//NONSGML v1.0//EN
CALSCALE:GREGORIAN
METHOD:PUBLISH
X-ORIGINAL-URL:https://www.loreedelabrie.fr
X-WR-CALDESC:Évènements pour L&#039;Orée de la Brie
REFRESH-INTERVAL;VALUE=DURATION:PT1H
X-Robots-Tag:noindex
X-PUBLISHED-TTL:PT1H
BEGIN:VTIMEZONE
TZID:Europe/Paris
BEGIN:DAYLIGHT
TZOFFSETFROM:+0100
TZOFFSETTO:+0200
TZNAME:CEST
DTSTART:20250330T010000
END:DAYLIGHT
BEGIN:STANDARD
TZOFFSETFROM:+0200
TZOFFSETTO:+0100
TZNAME:CET
DTSTART:20251026T010000
END:STANDARD
END:VTIMEZONE
BEGIN:VEVENT
DTSTART;TZID=Europe/Paris:20250614T090000
DTEND;TZID=Europe/Paris:20250614T110000
DTSTAMP:20260422T070027
CREATED:20250514T085916Z
LAST-MODIFIED:20250514T090305Z
UID:15072-1749891600-1749898800@www.loreedelabrie.fr
SUMMARY:[VARENNES-JARCY] La Va'Run'Noise
DESCRIPTION:  \nRenseignement et inscriptions http://varunnoise.free.fr/?page_id=39
URL:https://www.loreedelabrie.fr/evenement/la-varunnoise-3/
LOCATION:Moulin de Jarcy\, 50 rue Boieldieu\, Varennes-Jarcy\, 91480\, France
CATEGORIES:Course
ATTACH;FMTTYPE=image/jpeg:https://www.loreedelabrie.fr/wp-content/uploads/tribe_events/course.jpg
END:VEVENT
END:VCALENDAR