BEGIN:VCALENDAR
VERSION:2.0
PRODID:-//L&#039;Orée de la Brie - ECPv6.5.1.4//NONSGML v1.0//EN
CALSCALE:GREGORIAN
METHOD:PUBLISH
X-WR-CALNAME:L&#039;Orée de la Brie
X-ORIGINAL-URL:https://www.loreedelabrie.fr
X-WR-CALDESC:Évènements pour L&#039;Orée de la Brie
REFRESH-INTERVAL;VALUE=DURATION:PT1H
X-Robots-Tag:noindex
X-PUBLISHED-TTL:PT1H
BEGIN:VTIMEZONE
TZID:Europe/Paris
BEGIN:DAYLIGHT
TZOFFSETFROM:+0100
TZOFFSETTO:+0200
TZNAME:CEST
DTSTART:20240331T010000
END:DAYLIGHT
BEGIN:STANDARD
TZOFFSETFROM:+0200
TZOFFSETTO:+0100
TZNAME:CET
DTSTART:20241027T010000
END:STANDARD
END:VTIMEZONE
BEGIN:VEVENT
DTSTART;VALUE=DATE:20240622
DTEND;VALUE=DATE:20240623
DTSTAMP:20260423T024940
CREATED:20240426T093526Z
LAST-MODIFIED:20240531T074045Z
UID:13146-1719014400-1719100799@www.loreedelabrie.fr
SUMMARY:[VARENNES-JARCY] Course Va'Run'Noise
DESCRIPTION:
URL:https://www.loreedelabrie.fr/evenement/varennes-jarcy-course-varunnoise/
LOCATION:Varennes-Jarcy
CATEGORIES:Course
ATTACH;FMTTYPE=image/jpeg:https://www.loreedelabrie.fr/wp-content/uploads/tribe_events/course.jpg
END:VEVENT
BEGIN:VEVENT
DTSTART;VALUE=DATE:20240623
DTEND;VALUE=DATE:20240624
DTSTAMP:20260423T024940
CREATED:20240409T083718Z
LAST-MODIFIED:20240422T092240Z
UID:12979-1719100800-1719187199@www.loreedelabrie.fr
SUMMARY:[BRIE-COMTE-ROBERT] Happy Run
DESCRIPTION:  \n  \n \n  \nA vos marques\, prêts ? La Happy Run revient pour une 8ème édition\, dimanche 23 juin\, au parc François Mitterrand. Inscrivez-vous à partir du 29 avril !\n\n Au programme : 5km de course\, du fun et beaucoup de couleurs !\n 12h : Stands de maquillage\, coiffure\, photo\, foodtrucks\, DJ\n 13h30 : Départ de la sweet run (course pour les 3-6 ans)\n 14h30 : Echauffement collectif\n 15h : Départ de la course !\n 16h : Happy time et DJ\n\n Inscriptions à partir du 29 avril : https://www.briecomterobert.fr/agenda/happy-run/ 
URL:https://www.loreedelabrie.fr/evenement/brie-comte-robert-happy-run/
LOCATION:Parc François Mitterrand\, Brie-Comte-Robert\, 77170\, France
CATEGORIES:Course
ATTACH;FMTTYPE=image/jpeg:https://www.loreedelabrie.fr/wp-content/uploads/tribe_events/course.jpg
END:VEVENT
END:VCALENDAR