BEGIN:VCALENDAR
VERSION:2.0
PRODID:-//L&#039;Orée de la Brie - ECPv6.5.1.4//NONSGML v1.0//EN
CALSCALE:GREGORIAN
METHOD:PUBLISH
X-ORIGINAL-URL:https://www.loreedelabrie.fr
X-WR-CALDESC:Évènements pour L&#039;Orée de la Brie
REFRESH-INTERVAL;VALUE=DURATION:PT1H
X-Robots-Tag:noindex
X-PUBLISHED-TTL:PT1H
BEGIN:VTIMEZONE
TZID:Europe/Paris
BEGIN:DAYLIGHT
TZOFFSETFROM:+0100
TZOFFSETTO:+0200
TZNAME:CEST
DTSTART:20240331T010000
END:DAYLIGHT
BEGIN:STANDARD
TZOFFSETFROM:+0200
TZOFFSETTO:+0100
TZNAME:CET
DTSTART:20241027T010000
END:STANDARD
END:VTIMEZONE
BEGIN:VEVENT
DTSTART;VALUE=DATE:20240505
DTEND;VALUE=DATE:20240506
DTSTAMP:20260423T040513
CREATED:20240301T130828Z
LAST-MODIFIED:20240301T130828Z
UID:12576-1714867200-1714953599@www.loreedelabrie.fr
SUMMARY:[CHEVRY-COSSIGNY] TOC (Trail Obstacles Chevriard) 7ème édition
DESCRIPTION:  \nLa TOC est de retour ! \n\nPréparez-vous pour le 7ème édition de la TOC (Trail Obstacles Chevriard) ! Cette course fun est de retour le dimanche 5 mai 2024 à Chevry-Cossigny. \n\n 30 obstacles\n 3 parcours : enfants\, ados et adultes\n Chaque participant se verra remettre un t-shirt aux couleurs de la nouvelle édition (un indice sur la couleur se cache dans l’affiche ) \n\n parcours enfants / 6 à 11 ans / 1\,5 kms / 5€\n parcours ados / 12 à 15 ans / 2\,5 kms / 5€\n parcours adultes / + 16 ans / 7\,5 kms / en prévente du 1er au 31 mars : 15 € et du 1er avril au 4 mai : 18 € / En vente le jour de la course : 25 € \n groupe à partir de 8 personnes / en prévente du 1er mars au 31 mars 12 € et du 1er avril au 4 mai : 15 € \n\n Pour s’inscrire\, c’est par ici : https://bit.ly/3SWCPY2  \n\n Vous aimeriez donner un coup de main en tant que bénévole ? Un large choix de missions vous attend : accueil des participants\, installation et encadrement des obstacles\, distribution des récompenses\,… \nContactez-nous par mail  mairie@chevry-cossigny.fr
URL:https://www.loreedelabrie.fr/evenement/chevry-cossigny-toc-trail-obstacles-chevriard-7eme-edition/
LOCATION:Chevry-Cossigny
CATEGORIES:Course
ATTACH;FMTTYPE=image/jpeg:https://www.loreedelabrie.fr/wp-content/uploads/tribe_events/course.jpg
END:VEVENT
END:VCALENDAR