BEGIN:VCALENDAR
VERSION:2.0
PRODID:-//L&#039;Orée de la Brie - ECPv6.5.1.4//NONSGML v1.0//EN
CALSCALE:GREGORIAN
METHOD:PUBLISH
X-WR-CALNAME:L&#039;Orée de la Brie
X-ORIGINAL-URL:https://www.loreedelabrie.fr
X-WR-CALDESC:Évènements pour L&#039;Orée de la Brie
REFRESH-INTERVAL;VALUE=DURATION:PT1H
X-Robots-Tag:noindex
X-PUBLISHED-TTL:PT1H
BEGIN:VTIMEZONE
TZID:Europe/Paris
BEGIN:DAYLIGHT
TZOFFSETFROM:+0100
TZOFFSETTO:+0200
TZNAME:CEST
DTSTART:20250330T010000
END:DAYLIGHT
BEGIN:STANDARD
TZOFFSETFROM:+0200
TZOFFSETTO:+0100
TZNAME:CET
DTSTART:20251026T010000
END:STANDARD
END:VTIMEZONE
BEGIN:VEVENT
DTSTART;VALUE=DATE:20251018
DTEND;VALUE=DATE:20251103
DTSTAMP:20260421T195721
CREATED:20251023T131415Z
LAST-MODIFIED:20251023T131415Z
UID:16074-1760745600-1762127999@www.loreedelabrie.fr
SUMMARY:[BRIE-COMTE-ROBERT] Festival Cinéma jeune public
DESCRIPTION:
URL:https://www.loreedelabrie.fr/evenement/brie-comte-robert-festival-cinema-jeune-public-2/
LOCATION:Cinéma les 4 vents – Brie-Comte-Robert\, 80 rue du Général Leclerc\, Brie-Comte-Robert\, 77170\, France
CATEGORIES:Cinéma
ATTACH;FMTTYPE=image/jpeg:https://www.loreedelabrie.fr/wp-content/uploads/tribe_events/Cinema.jpg
END:VEVENT
BEGIN:VEVENT
DTSTART;VALUE=DATE:20251031
DTEND;VALUE=DATE:20251101
DTSTAMP:20260421T195721
CREATED:20251023T133637Z
LAST-MODIFIED:20251023T133637Z
UID:16090-1761868800-1761955199@www.loreedelabrie.fr
SUMMARY:[BRIE-COMTE-ROBERT] Halloween au cinéma
DESCRIPTION:Atelier cinéma stop motion de l’étrange\, 10h30 à 12h\n* Animé par Hélène Brière des Ateliers Clap\nGratuit sur inscription auprès du cinéma : cinema@briecomterobert.fr ou 01 64 05 32 94 \nPour Halloween\, imaginez une petite histoire mystérieuse en modelant de curieux éléments qui\, assemblés un à un\, donneront vie à une créature étrange grâce à la technique du stop motion \nCiné-quiz Coco\, 14h\nAprès votre séance du film « Coco »\, testez vos connaissances en salle sur l’univers Pixar \nThe Conjuring : l’heure du jugement\, 20h\nInterdit aux – 12 ans \nun film de Michael Chaves avec Vera Farmiga\, Patrick Wilson \nAlors qu’ils espéraient une nouvelle vie\, Ed et Lorraine Warren se voient impliqués dans une dernière enquête… qu’ils n’auraient jamais dû accepter. Dans la maison de la famille Smurl\, un mal ancien les attend. Un ennemi qu’ils croyaient à jamais enfoui… Découvrez comment les Warren ont affronté le cas le plus maléfique de leur carrière\, inspiré de faits réels qui ont terrorisé l’Amérique. \nMarche ou crève\, 22h30\nInterdit aux – 16 ans \nun film de Francis Lawrence avec Cooper Hoffman\, David Jonsson \nLe jeune Garraty va concourir pour « La Longue Marche »\, une compétition qui compte cent participants. Cet événement sera retransmis à la télévision\, suivi par des milliers de personnes. Mais ce n’est pas une marche comme les autres\, plutôt un jeu sans foi ni loi… Une adaptation du roman de Stephen King.
URL:https://www.loreedelabrie.fr/evenement/brie-comte-robert-halloween-au-cinema/
LOCATION:Cinéma les 4 vents – Brie-Comte-Robert\, 80 rue du Général Leclerc\, Brie-Comte-Robert\, 77170\, France
CATEGORIES:Cinéma,Halloween
ATTACH;FMTTYPE=image/jpeg:https://www.loreedelabrie.fr/wp-content/uploads/tribe_events/Cinema.jpg
END:VEVENT
END:VCALENDAR