BEGIN:VCALENDAR
VERSION:2.0
PRODID:-//L&#039;Orée de la Brie - ECPv6.5.1.4//NONSGML v1.0//EN
CALSCALE:GREGORIAN
METHOD:PUBLISH
X-WR-CALNAME:L&#039;Orée de la Brie
X-ORIGINAL-URL:https://www.loreedelabrie.fr
X-WR-CALDESC:Évènements pour L&#039;Orée de la Brie
REFRESH-INTERVAL;VALUE=DURATION:PT1H
X-Robots-Tag:noindex
X-PUBLISHED-TTL:PT1H
BEGIN:VTIMEZONE
TZID:Europe/Paris
BEGIN:DAYLIGHT
TZOFFSETFROM:+0100
TZOFFSETTO:+0200
TZNAME:CEST
DTSTART:20250330T010000
END:DAYLIGHT
BEGIN:STANDARD
TZOFFSETFROM:+0200
TZOFFSETTO:+0100
TZNAME:CET
DTSTART:20251026T010000
END:STANDARD
END:VTIMEZONE
BEGIN:VEVENT
DTSTART;VALUE=DATE:20250122
DTEND;VALUE=DATE:20250129
DTSTAMP:20260422T095337
CREATED:20250114T112842Z
LAST-MODIFIED:20250114T112842Z
UID:14364-1737504000-1738108799@www.loreedelabrie.fr
SUMMARY:[BRIE-COMTE-ROBERT] Festival Télérama
DESCRIPTION:Du 22 au 28 janvier\, profitez du festival Télérama pour venir voir ou revoir les meilleurs films de 2024. \nLes films d’auteur importants de l’année écoulée sont remis en lumière. Une sélection de films choisis par la rédaction du magazine est proposée à un tarif unique de 4€ sur présentation d’un pas. L’occasion de voir ou de revoir les pépites cinématographiques\, pour votre plus grand plaisir !
URL:https://www.loreedelabrie.fr/evenement/brie-comte-robert-festival-telerama/
LOCATION:Cinéma les 4 vents – Brie-Comte-Robert\, 80 rue du Général Leclerc\, Brie-Comte-Robert\, 77170\, France
CATEGORIES:Cinéma
ATTACH;FMTTYPE=image/jpeg:https://www.loreedelabrie.fr/wp-content/uploads/tribe_events/Cinema.jpg
END:VEVENT
END:VCALENDAR