BEGIN:VCALENDAR
VERSION:2.0
PRODID:-//L&#039;Orée de la Brie - ECPv6.5.1.4//NONSGML v1.0//EN
CALSCALE:GREGORIAN
METHOD:PUBLISH
X-ORIGINAL-URL:https://www.loreedelabrie.fr
X-WR-CALDESC:Évènements pour L&#039;Orée de la Brie
REFRESH-INTERVAL;VALUE=DURATION:PT1H
X-Robots-Tag:noindex
X-PUBLISHED-TTL:PT1H
BEGIN:VTIMEZONE
TZID:Europe/Paris
BEGIN:DAYLIGHT
TZOFFSETFROM:+0100
TZOFFSETTO:+0200
TZNAME:CEST
DTSTART:20240331T010000
END:DAYLIGHT
BEGIN:STANDARD
TZOFFSETFROM:+0200
TZOFFSETTO:+0100
TZNAME:CET
DTSTART:20241027T010000
END:STANDARD
END:VTIMEZONE
BEGIN:VEVENT
DTSTART;TZID=Europe/Paris:20240409T093000
DTEND;TZID=Europe/Paris:20240409T123000
DTSTAMP:20260423T001927
CREATED:20240321T150408Z
LAST-MODIFIED:20240321T150408Z
UID:12812-1712655000-1712665800@www.loreedelabrie.fr
SUMMARY:[BRIE-COMTE-ROBERT] Atelier vidéo marionnettes
DESCRIPTION:Le cinéma est un peu magique. Il sait donner du mouvement à une marionnette qui\, sans marionnettiste\, en est dépourvue. Et si le cinéma allait encore plus loin en donnant vie à la marionnette… Lors de cet atelier vidéo avec Fabrice Baynaud\, programmateur du cinéma Les 4 Vents\, tout est possible. Trois heures de tournage\, quelques heures de montage… et le tour est joué. À partir de 10 ans. \nLe film réalisé sera projeté ensuite au cinéma Les 4 Vents en première partie de la séance du vendredi 12 avril\, 14h – 3 €
URL:https://www.loreedelabrie.fr/evenement/brie-comte-robert-atelier-video-marionnettes/
LOCATION:Médiathèque de Brie-Comte-Robert\, Place des Déportés\, Brie-Comte-Robert\, 77170\, France
CATEGORIES:Cinéma,Culture
ATTACH;FMTTYPE=image/jpeg:https://www.loreedelabrie.fr/wp-content/uploads/tribe_events/culture.jpg
END:VEVENT
BEGIN:VEVENT
DTSTART;TZID=Europe/Paris:20240409T103000
DTEND;TZID=Europe/Paris:20240409T103000
DTSTAMP:20260423T001927
CREATED:20240321T150956Z
LAST-MODIFIED:20240321T150956Z
UID:12814-1712658600-1712658600@www.loreedelabrie.fr
SUMMARY:[BRIE-COMTE-ROBERT] Avant-première - Les aventuriers de l'arche de Noé
DESCRIPTION:1h35 – Un film de Sérgio Machado\, Alois Di Leo \nVini et Tito\, deux souris artistes de music-hall\, voient leurs rêves de succès tomber à l’eau lorsque la Terre est noyée par le Déluge. Aidés par un coup de pouce du destin\, ils réussissent à monter à bord de l’Arche de Noé. Au beau milieu d’un différend opposant les animaux herbivores et carnivores\, Vini et Tito ont la solution parfaite pour apaiser les tensions : un concours de chansons.
URL:https://www.loreedelabrie.fr/evenement/brie-comte-robert-avant-premiere-les-aventuriers-de-larche-de-noe/
LOCATION:Cinéma les 4 vents – Brie-Comte-Robert\, 80 rue du Général Leclerc\, Brie-Comte-Robert\, 77170\, France
CATEGORIES:Cinéma
ATTACH;FMTTYPE=image/jpeg:https://www.loreedelabrie.fr/wp-content/uploads/tribe_events/Cinema.jpg
END:VEVENT
BEGIN:VEVENT
DTSTART;TZID=Europe/Paris:20240409T203000
DTEND;TZID=Europe/Paris:20240409T203000
DTSTAMP:20260423T001927
CREATED:20240321T145638Z
LAST-MODIFIED:20240321T145638Z
UID:12810-1712694600-1712694600@www.loreedelabrie.fr
SUMMARY:[BRIE-COMTE-ROBERT] Coup de cœur surprise
DESCRIPTION:Mardi 9 avril à 20h30\, votre cinéma municipal « les 4 vents » vous convie à la projection d’un film mystère ! \n\nComme à votre habitude\, réglez votre séance (à votre tarif habituel) et installez-vous confortablement dans votre siège… pour assister à la projection d’un film que vous n’avez pas choisi. \nRassurez-vous. Le film vous plaira à coup sûr. Déjà parce qu’il a été choisi par l’équipe de votre cinéma. Ensuite car il fait partie d’une liste sélectionnée par l’AFCAE\, Infos association française du cinéma d’art et essai. Et enfin car c’est une avant-première nationale qui vous est proposée. \nAlors partant pour vous laisser surprendre ? \nSéance en VOSTF si le film est d’origine étrangère
URL:https://www.loreedelabrie.fr/evenement/brie-comte-robert-coup-de-coeur-surprise-2/
LOCATION:Cinéma les 4 vents – Brie-Comte-Robert\, 80 rue du Général Leclerc\, Brie-Comte-Robert\, 77170\, France
CATEGORIES:Cinéma
ATTACH;FMTTYPE=image/jpeg:https://www.loreedelabrie.fr/wp-content/uploads/tribe_events/Cinema.jpg
END:VEVENT
END:VCALENDAR