BEGIN:VCALENDAR
VERSION:2.0
PRODID:-//L&#039;Orée de la Brie - ECPv6.5.1.4//NONSGML v1.0//EN
CALSCALE:GREGORIAN
METHOD:PUBLISH
X-ORIGINAL-URL:https://www.loreedelabrie.fr
X-WR-CALDESC:Évènements pour L&#039;Orée de la Brie
REFRESH-INTERVAL;VALUE=DURATION:PT1H
X-Robots-Tag:noindex
X-PUBLISHED-TTL:PT1H
BEGIN:VTIMEZONE
TZID:Europe/Paris
BEGIN:DAYLIGHT
TZOFFSETFROM:+0100
TZOFFSETTO:+0200
TZNAME:CEST
DTSTART:20260329T010000
END:DAYLIGHT
BEGIN:STANDARD
TZOFFSETFROM:+0200
TZOFFSETTO:+0100
TZNAME:CET
DTSTART:20261025T010000
END:STANDARD
END:VTIMEZONE
BEGIN:VEVENT
DTSTART;TZID=Europe/Paris:20260208T150000
DTEND;TZID=Europe/Paris:20260208T150000
DTSTAMP:20260421T135825
CREATED:20260202T090603Z
LAST-MODIFIED:20260202T090603Z
UID:16649-1770562800-1770562800@www.loreedelabrie.fr
SUMMARY:[BRIE-COMTE-ROBERT] Opéra au cinéma : La Traviata
DESCRIPTION:Au cours de l’une de ses fastueuses soirées\, la célèbre courtisane parisienne Violetta est présentée à Alfredo Germont. Ils tombent follement amoureux l’un de l’autre\, et bien qu’elle hésite à abandonner sa vie faite de luxe et de liberté\, Violetta suit les élans de son cœur. Mais le jeune couple connaît un bonheur éphémère car la dure réalité de la vie les rattrape. \nAussi intimiste que somptueux\, La traviata offre des mélodies parmi les plus célèbres de l’histoire de l’opéra et met en vedette le rôle principal de soprano\, brillamment interprété par Ermonela Jaho.
URL:https://www.loreedelabrie.fr/evenement/brie-comte-robert-opera-au-cinema-la-traviata/
LOCATION:Cinéma les 4 vents – Brie-Comte-Robert\, 80 rue du Général Leclerc\, Brie-Comte-Robert\, 77170\, France
CATEGORIES:Cinéma
ATTACH;FMTTYPE=image/jpeg:https://www.loreedelabrie.fr/wp-content/uploads/tribe_events/opera-au-cinema.jpg
END:VEVENT
END:VCALENDAR