BEGIN:VCALENDAR
VERSION:2.0
PRODID:-//L&#039;Orée de la Brie - ECPv6.5.1.4//NONSGML v1.0//EN
CALSCALE:GREGORIAN
METHOD:PUBLISH
X-WR-CALNAME:L&#039;Orée de la Brie
X-ORIGINAL-URL:https://www.loreedelabrie.fr
X-WR-CALDESC:Évènements pour L&#039;Orée de la Brie
REFRESH-INTERVAL;VALUE=DURATION:PT1H
X-Robots-Tag:noindex
X-PUBLISHED-TTL:PT1H
BEGIN:VTIMEZONE
TZID:Europe/Paris
BEGIN:DAYLIGHT
TZOFFSETFROM:+0100
TZOFFSETTO:+0200
TZNAME:CEST
DTSTART:20250330T010000
END:DAYLIGHT
BEGIN:STANDARD
TZOFFSETFROM:+0200
TZOFFSETTO:+0100
TZNAME:CET
DTSTART:20251026T010000
END:STANDARD
END:VTIMEZONE
BEGIN:VEVENT
DTSTART;TZID=Europe/Paris:20250514T080000
DTEND;TZID=Europe/Paris:20250514T170000
DTSTAMP:20260422T025510
CREATED:20250514T090702Z
LAST-MODIFIED:20250514T090702Z
UID:15077-1747209600-1747242000@www.loreedelabrie.fr
SUMMARY:[VARENNES-JARCY] Journée américaine
DESCRIPTION:  \nDes voitures anciennes\, des motos\, de l’artisanat\, de la musique\, des animations au profit de l’association “Les bikers ont du cœur”
URL:https://www.loreedelabrie.fr/evenement/varennes-jarcy-journee-americaine-2/
LOCATION:La Prairie à Varennes-Jarcy
CATEGORIES:Cinéma,Concert,Exposition
ATTACH;FMTTYPE=image/jpeg:https://www.loreedelabrie.fr/wp-content/uploads/tribe_events/expo-voitures.jpg
END:VEVENT
END:VCALENDAR