BEGIN:VCALENDAR
VERSION:2.0
PRODID:-//L&#039;Orée de la Brie - ECPv6.5.1.4//NONSGML v1.0//EN
CALSCALE:GREGORIAN
METHOD:PUBLISH
X-WR-CALNAME:L&#039;Orée de la Brie
X-ORIGINAL-URL:https://www.loreedelabrie.fr
X-WR-CALDESC:Évènements pour L&#039;Orée de la Brie
REFRESH-INTERVAL;VALUE=DURATION:PT1H
X-Robots-Tag:noindex
X-PUBLISHED-TTL:PT1H
BEGIN:VTIMEZONE
TZID:Europe/Paris
BEGIN:DAYLIGHT
TZOFFSETFROM:+0100
TZOFFSETTO:+0200
TZNAME:CEST
DTSTART:20240331T010000
END:DAYLIGHT
BEGIN:STANDARD
TZOFFSETFROM:+0200
TZOFFSETTO:+0100
TZNAME:CET
DTSTART:20241027T010000
END:STANDARD
END:VTIMEZONE
BEGIN:VEVENT
DTSTART;VALUE=DATE:20241019
DTEND;VALUE=DATE:20241104
DTSTAMP:20260422T141046
CREATED:20241025T074739Z
LAST-MODIFIED:20241025T074739Z
UID:14077-1729296000-1730678399@www.loreedelabrie.fr
SUMMARY:[BRIE-COMTE-ROBERT] Festival cinéma jeune public
DESCRIPTION:  \nDu 19 octobre au 3 novembre\, c’est le festival jeune public au cinéma municipal Les 4 Vents de Brie-Comte-Robert.\n\nProfitez des vacances et d’un tarif unique à 3€ pour découvrir en famille de nombreux films mais aussi participer à des ateliers cinéma et de très nombreuses animations !\n\n Avant-premières\, ateliers\, goûters\, 1ères séances\, concert…retrouvez le programme : https://bit.ly/festival-cinema-jeune-public-2024
URL:https://www.loreedelabrie.fr/evenement/brie-comte-robert-festival-cinema-jeune-public/
LOCATION:Cinéma les 4 vents – Brie-Comte-Robert\, 80 rue du Général Leclerc\, Brie-Comte-Robert\, 77170\, France
CATEGORIES:Cinéma,Enfance
ATTACH;FMTTYPE=image/jpeg:https://www.loreedelabrie.fr/wp-content/uploads/tribe_events/Cinema.jpg
END:VEVENT
END:VCALENDAR