BEGIN:VCALENDAR
VERSION:2.0
PRODID:-//L&#039;Orée de la Brie - ECPv6.5.1.4//NONSGML v1.0//EN
CALSCALE:GREGORIAN
METHOD:PUBLISH
X-ORIGINAL-URL:https://www.loreedelabrie.fr
X-WR-CALDESC:Évènements pour L&#039;Orée de la Brie
REFRESH-INTERVAL;VALUE=DURATION:PT1H
X-Robots-Tag:noindex
X-PUBLISHED-TTL:PT1H
BEGIN:VTIMEZONE
TZID:Europe/Paris
BEGIN:DAYLIGHT
TZOFFSETFROM:+0100
TZOFFSETTO:+0200
TZNAME:CEST
DTSTART:20240331T010000
END:DAYLIGHT
BEGIN:STANDARD
TZOFFSETFROM:+0200
TZOFFSETTO:+0100
TZNAME:CET
DTSTART:20241027T010000
END:STANDARD
END:VTIMEZONE
BEGIN:VEVENT
DTSTART;VALUE=DATE:20240907
DTEND;VALUE=DATE:20240908
DTSTAMP:20260422T154401
CREATED:20240801T131047Z
LAST-MODIFIED:20240909T085813Z
UID:13655-1725667200-1725753599@www.loreedelabrie.fr
SUMMARY:[VARENNES-JARCY] Forum des associations
DESCRIPTION:Forum des associations\, couplé avec le sport day\, un concert et un cinéma plein air.
URL:https://www.loreedelabrie.fr/evenement/varennes-jarcy-forum-des-associations/
LOCATION:Varennes-Jarcy
CATEGORIES:Associatif,Cinéma,Concert
ATTACH;FMTTYPE=image/jpeg:https://www.loreedelabrie.fr/wp-content/uploads/tribe_events/jeux-sportifs.jpg
END:VEVENT
END:VCALENDAR