BEGIN:VCALENDAR
VERSION:2.0
PRODID:-//L&#039;Orée de la Brie - ECPv6.5.1.4//NONSGML v1.0//EN
CALSCALE:GREGORIAN
METHOD:PUBLISH
X-WR-CALNAME:L&#039;Orée de la Brie
X-ORIGINAL-URL:https://www.loreedelabrie.fr
X-WR-CALDESC:Évènements pour L&#039;Orée de la Brie
REFRESH-INTERVAL;VALUE=DURATION:PT1H
X-Robots-Tag:noindex
X-PUBLISHED-TTL:PT1H
BEGIN:VTIMEZONE
TZID:Europe/Paris
BEGIN:DAYLIGHT
TZOFFSETFROM:+0100
TZOFFSETTO:+0200
TZNAME:CEST
DTSTART:20240331T010000
END:DAYLIGHT
BEGIN:STANDARD
TZOFFSETFROM:+0200
TZOFFSETTO:+0100
TZNAME:CET
DTSTART:20241027T010000
END:STANDARD
END:VTIMEZONE
BEGIN:VEVENT
DTSTART;VALUE=DATE:20240317
DTEND;VALUE=DATE:20240318
DTSTAMP:20260423T000941
CREATED:20240208T112245Z
LAST-MODIFIED:20240208T112245Z
UID:12401-1710633600-1710719999@www.loreedelabrie.fr
SUMMARY:[BRIE-COMTE-ROBERT] Concours "Ciné en poche"
DESCRIPTION:  \n\nLe concours « ciné de poche » revient cette année\, vous avez jusqu’au 17 mars pour envoyer votre participation ! \n\nLe projet\n« Ciné de poche » vise à faire émerger\, encourager et accompagner la créativité avec les outils mobiles numériques. Les enjeux liés à l’image – la vidéo\, l’expression de soi que l’on diffuse – sont au cœur du projet. Le cadre est donné pour favoriser l’expression avec des outils du quotidien. \nPour qui ?\nLe projet est ouvert à tous. \nQuoi ?\nLe film doit avoir un titre\, un générique de fin\, et une durée comprise entre 7 secondes et 10 minutes. Le genre du film est libre (fiction\, action\, comédie\, documentaire\, animation…). \nComment ?\nEn réalisant un film avec son téléphone portable\, sa tablette ou son appareil photo numérique ! Remplir le dossier d’inscription\, réaliser son film\, envoyer le tout et le tour est joué. \nQuand ?\n\nInscriptions jusqu’au 17 mars 2024\, c’est par ici pour envoyer votre participation : https://forms.gle/2TeSHBACocx7Y4dW6 \nProjections et concours au cinéma Les 4 vents de Brie-Comte-Robert le dimanche 24/03/2024\n\nÇa m’intéresse !\nPour plus d’information concernant les dates\, les modalités d’inscription et toute autre question\, n’hésitez pas à vous rendre au cinéma Les 4 Vents ou à contacter les numéros ci-dessous. \nContacts\n\nConcours : cine2poche@gmail.com\nAssociation IRIS : 06 07 87 24 13 / cineiris@gmail.com / www.faitesdescourts.com\n\n  \nreglement-concours-cine-de-poche
URL:https://www.loreedelabrie.fr/evenement/brie-comte-robert-concours-cine-en-poche/
LOCATION:Cinéma les 4 vents – Brie-Comte-Robert\, 80 rue du Général Leclerc\, Brie-Comte-Robert\, 77170\, France
CATEGORIES:Cinéma
ATTACH;FMTTYPE=image/jpeg:https://www.loreedelabrie.fr/wp-content/uploads/tribe_events/Cinema.jpg
END:VEVENT
BEGIN:VEVENT
DTSTART;TZID=Europe/Paris:20240317T150000
DTEND;TZID=Europe/Paris:20240317T150000
DTSTAMP:20260423T000941
CREATED:20240208T111823Z
LAST-MODIFIED:20240315T091606Z
UID:12396-1710687600-1710687600@www.loreedelabrie.fr
SUMMARY:[BRIE-COMTE-ROBERT] Ballet au cinéma "Manon"
DESCRIPTION:  \nhttps://cinema-briecomterobert.fr/evenements/opera-ballet-theatre-et-exposition-au-cinema.html
URL:https://www.loreedelabrie.fr/evenement/brie-comte-robert-ballet-au-cinema-manon/
LOCATION:Cinéma les 4 vents – Brie-Comte-Robert\, 80 rue du Général Leclerc\, Brie-Comte-Robert\, 77170\, France
CATEGORIES:Cinéma
ATTACH;FMTTYPE=image/jpeg:https://www.loreedelabrie.fr/wp-content/uploads/tribe_events/Cinema.jpg
END:VEVENT
BEGIN:VEVENT
DTSTART;VALUE=DATE:20240323
DTEND;VALUE=DATE:20240325
DTSTAMP:20260423T000941
CREATED:20240208T110821Z
LAST-MODIFIED:20240208T110920Z
UID:12392-1711152000-1711324799@www.loreedelabrie.fr
SUMMARY:[BRIE-COMTE-ROBERT] Festival des courts
DESCRIPTION:  \nPour cette 20e édition\, laissez-vous surprendre par la jeune création à travers cet espace de liberté qu’est le court-métrage. Des séances au cours desquelles sont décernés le prix du public\, le prix des lycéens et le prix courts de doc. Parmi plus de 1000 courts visionnés par l’association Iris\, une vingtaine de films va concourir. L’occasion pour vous de découvrir des films inédits. \nAu programme : un panorama de la production française avec des films d’animation\, de fiction ou documentaires.
URL:https://www.loreedelabrie.fr/evenement/brie-comte-robert-festival-des-courts/
LOCATION:Cinéma les 4 vents – Brie-Comte-Robert\, 80 rue du Général Leclerc\, Brie-Comte-Robert\, 77170\, France
CATEGORIES:Cinéma
ATTACH;FMTTYPE=image/jpeg:https://www.loreedelabrie.fr/wp-content/uploads/tribe_events/Cinema.jpg
END:VEVENT
END:VCALENDAR