BEGIN:VCALENDAR
VERSION:2.0
PRODID:-//L&#039;Orée de la Brie - ECPv6.5.1.4//NONSGML v1.0//EN
CALSCALE:GREGORIAN
METHOD:PUBLISH
X-ORIGINAL-URL:https://www.loreedelabrie.fr
X-WR-CALDESC:Évènements pour L&#039;Orée de la Brie
REFRESH-INTERVAL;VALUE=DURATION:PT1H
X-Robots-Tag:noindex
X-PUBLISHED-TTL:PT1H
BEGIN:VTIMEZONE
TZID:Europe/Paris
BEGIN:DAYLIGHT
TZOFFSETFROM:+0100
TZOFFSETTO:+0200
TZNAME:CEST
DTSTART:20260329T010000
END:DAYLIGHT
BEGIN:STANDARD
TZOFFSETFROM:+0200
TZOFFSETTO:+0100
TZNAME:CET
DTSTART:20261025T010000
END:STANDARD
END:VTIMEZONE
BEGIN:VEVENT
DTSTART;TZID=Europe/Paris:20260503T133000
DTEND;TZID=Europe/Paris:20260503T133000
DTSTAMP:20260419T223130
CREATED:20260318T092213Z
LAST-MODIFIED:20260318T092213Z
UID:17038-1777815000-1777815000@www.loreedelabrie.fr
SUMMARY:[BRIE-COMTE-ROBERT] Festival inter-chorales
DESCRIPTION:
URL:https://www.loreedelabrie.fr/evenement/brie-comte-robert-festival-inter-chorales/
LOCATION:salle de spectacles Le Safran\, 80 avenue Victor Hugo\, Brie-Comte-Robert\, 77170\, France
CATEGORIES:Chant,Musique
ATTACH;FMTTYPE=image/jpeg:https://www.loreedelabrie.fr/wp-content/uploads/tribe_events/Concert.jpg
END:VEVENT
END:VCALENDAR