BEGIN:VCALENDAR
VERSION:2.0
PRODID:-//L&#039;Orée de la Brie - ECPv6.5.1.4//NONSGML v1.0//EN
CALSCALE:GREGORIAN
METHOD:PUBLISH
X-WR-CALNAME:L&#039;Orée de la Brie
X-ORIGINAL-URL:https://www.loreedelabrie.fr
X-WR-CALDESC:Évènements pour L&#039;Orée de la Brie
REFRESH-INTERVAL;VALUE=DURATION:PT1H
X-Robots-Tag:noindex
X-PUBLISHED-TTL:PT1H
BEGIN:VTIMEZONE
TZID:Europe/Paris
BEGIN:DAYLIGHT
TZOFFSETFROM:+0100
TZOFFSETTO:+0200
TZNAME:CEST
DTSTART:20260329T010000
END:DAYLIGHT
BEGIN:STANDARD
TZOFFSETFROM:+0200
TZOFFSETTO:+0100
TZNAME:CET
DTSTART:20261025T010000
END:STANDARD
END:VTIMEZONE
BEGIN:VEVENT
DTSTART;VALUE=DATE:20260321
DTEND;VALUE=DATE:20260511
DTSTAMP:20260419T180122
CREATED:20260401T091252Z
LAST-MODIFIED:20260401T091252Z
UID:17177-1774051200-1778457599@www.loreedelabrie.fr
SUMMARY:[BRIE-COMTE-ROBERT] Exposition Lucas Ribeyron
DESCRIPTION:  \nLa démarche de Lucas Ribeyron questionne l’usage contemporain des images. Autour de la profusion d’images liées à la surveillance\, il réalise des vidéos usant des angles de vue des caméras de surveillance. Il retravaille ensuite ces images en dessin ou en estampe grâce aux outils numériques. Il transcrit ainsi le transfert de l’esthétique vidéo et de la trame d’écran sur le support papier. \nEn partenariat avec la galerie Taglialatella. \n  \nHoraires des expositions : mercredi de 15h à 18h\, samedi et dimanche de 10h à 13h et de 15h à 18h \nVisites commentées et accueil de groupes possibles sur rendez-vous
URL:https://www.loreedelabrie.fr/evenement/brie-comte-robert-exposition-lucas-ribeyron/
LOCATION:centre d’art Hôtel-Dieu\, 2 place des Halles\, Brie-Comte-Robert\, 77170\, France
CATEGORIES:Culture,Exposition
ATTACH;FMTTYPE=image/jpeg:https://www.loreedelabrie.fr/wp-content/uploads/tribe_events/Exposition.jpg
END:VEVENT
BEGIN:VEVENT
DTSTART;VALUE=DATE:20260417
DTEND;VALUE=DATE:20260427
DTSTAMP:20260419T180122
CREATED:20260324T150211Z
LAST-MODIFIED:20260324T150211Z
UID:17132-1776384000-1777247999@www.loreedelabrie.fr
SUMMARY:[LES AMIS DU VIEUX CHÂTEAU] Stage de restauration du château
DESCRIPTION:  \n Stage de restauration du château \nMaçonnerie traditionnelle \nÀ partir de 17 ans\n\nDécouvre le savoir-faire traditionnel et participe à la restauration du patrimoine !\n\nLe stage se déroulera au château de Brie-Comte-Robert\, du 17 au 26 avril 2026. Vous pourrez soit dormir sur place\, soit rentrer chez vous le soir.
URL:https://www.loreedelabrie.fr/evenement/les-amis-du-vieux-chateau-stage-de-restauration-du-chateau/
LOCATION:Vieux Château\, Brie-Comte-Robert\, 77170\, France
CATEGORIES:Activités manuelles
ATTACH;FMTTYPE=image/jpeg:https://www.loreedelabrie.fr/wp-content/uploads/tribe_events/logo-amis-du-vieux-chateau.jpg
ORGANIZER;CN="Les Amis du Vieux Ch%C3%A2teau":MAILTO:contact@amisduvieuxchateau.org
END:VEVENT
BEGIN:VEVENT
DTSTART;VALUE=DATE:20260418
DTEND;VALUE=DATE:20260420
DTSTAMP:20260419T180122
CREATED:20251217T091142Z
LAST-MODIFIED:20260303T144816Z
UID:16421-1776470400-1776643199@www.loreedelabrie.fr
SUMMARY:[CCOB] Salon Santé et Bien-Être
DESCRIPTION:
URL:https://www.loreedelabrie.fr/evenement/ccob-salon-sante-et-bien-etre-2/
LOCATION:Salle Roger Coudert – Servon\, 15 rue de la Poste\, Servon\, 77170\, France
CATEGORIES:Bien-être,Salon
ATTACH;FMTTYPE=image/jpeg:https://www.loreedelabrie.fr/wp-content/uploads/tribe_events/AfficheSSBE2026V2BDEF.jpg
ORGANIZER;CN="L'Or%C3%A9e de la Brie":MAILTO:communaute@loreedelabrie.fr
END:VEVENT
BEGIN:VEVENT
DTSTART;TZID=Europe/Paris:20260419T140000
DTEND;TZID=Europe/Paris:20260419T180000
DTSTAMP:20260419T180122
CREATED:20260416T095850Z
LAST-MODIFIED:20260416T095850Z
UID:17565-1776607200-1776621600@www.loreedelabrie.fr
SUMMARY:[VARENNES-JARCY] Interbreak
DESCRIPTION:
URL:https://www.loreedelabrie.fr/evenement/varennes-jarcy-interbreak-2/
LOCATION:Gymnase Sandrine Martinet – Varennes-Jarcy\, Chemin des Aufrais\, Varennes-Jarcy\, 91480
CATEGORIES:Danse,Musique
ATTACH;FMTTYPE=image/jpeg:https://www.loreedelabrie.fr/wp-content/uploads/tribe_events/danse-pour-tous.jpg
END:VEVENT
BEGIN:VEVENT
DTSTART;TZID=Europe/Paris:20260421T093000
DTEND;TZID=Europe/Paris:20260421T123000
DTSTAMP:20260419T180122
CREATED:20260416T100809Z
LAST-MODIFIED:20260416T100809Z
UID:17568-1776763800-1776774600@www.loreedelabrie.fr
SUMMARY:[BRIE-COMTE-ROBERT] Pour suites
DESCRIPTION:Plongez dans l’univers de la réalisation d’une courte fiction. Dans cet atelier\, \,chacun choisit son rôle : réalisateur ou acteur. \nRéservation dès le 24 mars au 01 60 62 64 39
URL:https://www.loreedelabrie.fr/evenement/brie-comte-robert-pour-suites/
LOCATION:Médiathèque de Brie-Comte-Robert\, Place des Déportés\, Brie-Comte-Robert\, 77170\, France
CATEGORIES:Atelier,Cinéma
ATTACH;FMTTYPE=image/jpeg:https://www.loreedelabrie.fr/wp-content/uploads/tribe_events/Cinema.jpg
END:VEVENT
BEGIN:VEVENT
DTSTART;TZID=Europe/Paris:20260425T200000
DTEND;TZID=Europe/Paris:20260425T200000
DTSTAMP:20260419T180122
CREATED:20260306T101020Z
LAST-MODIFIED:20260306T101020Z
UID:16960-1777147200-1777147200@www.loreedelabrie.fr
SUMMARY:[VARENNES-JARCY] Super Loto
DESCRIPTION:
URL:https://www.loreedelabrie.fr/evenement/varennes-jarcy-super-loto-2/
LOCATION:Salle des fêtes Gérard Josselin\, 14 rue de la Libération\, Varennes-Jarcy\, 91480
CATEGORIES:Loto
ATTACH;FMTTYPE=image/jpeg:https://www.loreedelabrie.fr/wp-content/uploads/tribe_events/Loto.jpg
END:VEVENT
BEGIN:VEVENT
DTSTART;TZID=Europe/Paris:20260426T080000
DTEND;TZID=Europe/Paris:20260426T180000
DTSTAMP:20260419T180122
CREATED:20260323T130056Z
LAST-MODIFIED:20260323T130056Z
UID:17103-1777190400-1777226400@www.loreedelabrie.fr
SUMMARY:[CHEVRY-COSSIGNY] Brocante de printemps
DESCRIPTION:  \nTéléchargez le dossier d’inscription Dossier-dinscription-Brocante-Avril-2026
URL:https://www.loreedelabrie.fr/evenement/chevry-cossigny-brocante-de-printemps-2/
LOCATION:Centre-ville Chevry-Cossigny
CATEGORIES:Vide Grenier et Brocante
ATTACH;FMTTYPE=image/jpeg:https://www.loreedelabrie.fr/wp-content/uploads/tribe_events/vide-greniers-brocante.jpg
END:VEVENT
END:VCALENDAR