BEGIN:VCALENDAR
VERSION:2.0
PRODID:-//L&#039;Orée de la Brie - ECPv6.5.1.4//NONSGML v1.0//EN
CALSCALE:GREGORIAN
METHOD:PUBLISH
X-ORIGINAL-URL:https://www.loreedelabrie.fr
X-WR-CALDESC:Évènements pour L&#039;Orée de la Brie
REFRESH-INTERVAL;VALUE=DURATION:PT1H
X-Robots-Tag:noindex
X-PUBLISHED-TTL:PT1H
BEGIN:VTIMEZONE
TZID:Europe/Paris
BEGIN:DAYLIGHT
TZOFFSETFROM:+0100
TZOFFSETTO:+0200
TZNAME:CEST
DTSTART:20260329T010000
END:DAYLIGHT
BEGIN:STANDARD
TZOFFSETFROM:+0200
TZOFFSETTO:+0100
TZNAME:CET
DTSTART:20261025T010000
END:STANDARD
END:VTIMEZONE
BEGIN:VEVENT
DTSTART;TZID=Europe/Paris:20260530T203000
DTEND;TZID=Europe/Paris:20260530T203000
DTSTAMP:20260419T210300
CREATED:20251127T155558Z
LAST-MODIFIED:20260317T092409Z
UID:16326-1780173000-1780173000@www.loreedelabrie.fr
SUMMARY:[SERVON] Servon Talent Show
DESCRIPTION:  \n Servon Talent Show – 4e édition ! \n\nTu as entre 10 et 20 ans ? Viens montrer ton talent lors du grand concours annuel de Servon Talent Show !\n\n Inscriptions jusqu’au samedi 2 mai 2026\n sur le site de la ville : https://www.servon.fr/agenda/servon-talent-show-4/\n\n Spectacle le samedi 30 mai 2026 à 20h30\n Salle Roger Coudert\n\n Nous recherchons également des représentations hors concours\, ouvertes à tous les âges !\n\nPrêt à monter sur scène ?
URL:https://www.loreedelabrie.fr/evenement/servon-servon-talent-show-2/
LOCATION:Salle Roger Coudert – Servon\, 15 rue de la Poste\, Servon\, 77170\, France
CATEGORIES:Concert,Danse,Scène ouverte musicale,Show
ATTACH;FMTTYPE=image/jpeg:https://www.loreedelabrie.fr/wp-content/uploads/tribe_events/musique-scene.jpg
END:VEVENT
END:VCALENDAR