BEGIN:VCALENDAR
VERSION:2.0
PRODID:-//L&#039;Orée de la Brie - ECPv6.5.1.4//NONSGML v1.0//EN
CALSCALE:GREGORIAN
METHOD:PUBLISH
X-WR-CALNAME:L&#039;Orée de la Brie
X-ORIGINAL-URL:https://www.loreedelabrie.fr
X-WR-CALDESC:Évènements pour L&#039;Orée de la Brie
REFRESH-INTERVAL;VALUE=DURATION:PT1H
X-Robots-Tag:noindex
X-PUBLISHED-TTL:PT1H
BEGIN:VTIMEZONE
TZID:Europe/Paris
BEGIN:DAYLIGHT
TZOFFSETFROM:+0100
TZOFFSETTO:+0200
TZNAME:CEST
DTSTART:20260329T010000
END:DAYLIGHT
BEGIN:STANDARD
TZOFFSETFROM:+0200
TZOFFSETTO:+0100
TZNAME:CET
DTSTART:20261025T010000
END:STANDARD
END:VTIMEZONE
BEGIN:VEVENT
DTSTART;VALUE=DATE:20260321
DTEND;VALUE=DATE:20260511
DTSTAMP:20260421T121634
CREATED:20260401T091252Z
LAST-MODIFIED:20260401T091252Z
UID:17177-1774051200-1778457599@www.loreedelabrie.fr
SUMMARY:[BRIE-COMTE-ROBERT] Exposition Lucas Ribeyron
DESCRIPTION:  \nLa démarche de Lucas Ribeyron questionne l’usage contemporain des images. Autour de la profusion d’images liées à la surveillance\, il réalise des vidéos usant des angles de vue des caméras de surveillance. Il retravaille ensuite ces images en dessin ou en estampe grâce aux outils numériques. Il transcrit ainsi le transfert de l’esthétique vidéo et de la trame d’écran sur le support papier. \nEn partenariat avec la galerie Taglialatella. \n  \nHoraires des expositions : mercredi de 15h à 18h\, samedi et dimanche de 10h à 13h et de 15h à 18h \nVisites commentées et accueil de groupes possibles sur rendez-vous
URL:https://www.loreedelabrie.fr/evenement/brie-comte-robert-exposition-lucas-ribeyron/
LOCATION:centre d’art Hôtel-Dieu\, 2 place des Halles\, Brie-Comte-Robert\, 77170\, France
CATEGORIES:Culture,Exposition
ATTACH;FMTTYPE=image/jpeg:https://www.loreedelabrie.fr/wp-content/uploads/tribe_events/Exposition.jpg
END:VEVENT
BEGIN:VEVENT
DTSTART;TZID=Europe/Paris:20260328T110000
DTEND;TZID=Europe/Paris:20260329T180000
DTSTAMP:20260421T121634
CREATED:20260306T092745Z
LAST-MODIFIED:20260306T092745Z
UID:16950-1774695600-1774807200@www.loreedelabrie.fr
SUMMARY:[VARENNES-JARCY] Salon de peinture
DESCRIPTION:
URL:https://www.loreedelabrie.fr/evenement/varennes-jarcy-salon-de-peinture-4/
LOCATION:Salle des fêtes Gérard Josselin\, 14 rue de la Libération\, Varennes-Jarcy\, 91480
CATEGORIES:Culture,Salon
ATTACH;FMTTYPE=image/jpeg:https://www.loreedelabrie.fr/wp-content/uploads/tribe_events/peinture.jpg
END:VEVENT
BEGIN:VEVENT
DTSTART;TZID=Europe/Paris:20260329T120000
DTEND;TZID=Europe/Paris:20260329T190000
DTSTAMP:20260421T121634
CREATED:20260225T155009Z
LAST-MODIFIED:20260225T155009Z
UID:16855-1774785600-1774810800@www.loreedelabrie.fr
SUMMARY:[VARENNES-JARCY] Thé dansant
DESCRIPTION:
URL:https://www.loreedelabrie.fr/evenement/varennes-jarcy-the-dansant/
LOCATION:Gymnase Sandrine Martinet – Varennes-Jarcy\, Chemin des Aufrais\, Varennes-Jarcy\, 91480
CATEGORIES:Danse
ATTACH;FMTTYPE=image/jpeg:https://www.loreedelabrie.fr/wp-content/uploads/tribe_events/danse.jpg
END:VEVENT
BEGIN:VEVENT
DTSTART;TZID=Europe/Paris:20260329T160000
DTEND;TZID=Europe/Paris:20260329T160000
DTSTAMP:20260421T121634
CREATED:20260306T085138Z
LAST-MODIFIED:20260306T085138Z
UID:16940-1774800000-1774800000@www.loreedelabrie.fr
SUMMARY:[VARENNES-JARCY] De la place pour deux
DESCRIPTION:
URL:https://www.loreedelabrie.fr/evenement/varennes-jarcy-de-la-place-pour-deux/
LOCATION:La Grange\, 2 rue de la Ferme\, Varennes-Jarcy\, 91480\, France
CATEGORIES:Théâtre
ATTACH;FMTTYPE=image/jpeg:https://www.loreedelabrie.fr/wp-content/uploads/tribe_events/Theatre.jpg
END:VEVENT
END:VCALENDAR