BEGIN:VCALENDAR
VERSION:2.0
PRODID:-//L&#039;Orée de la Brie - ECPv6.5.1.4//NONSGML v1.0//EN
CALSCALE:GREGORIAN
METHOD:PUBLISH
X-WR-CALNAME:L&#039;Orée de la Brie
X-ORIGINAL-URL:https://www.loreedelabrie.fr
X-WR-CALDESC:Évènements pour L&#039;Orée de la Brie
REFRESH-INTERVAL;VALUE=DURATION:PT1H
X-Robots-Tag:noindex
X-PUBLISHED-TTL:PT1H
BEGIN:VTIMEZONE
TZID:Europe/Paris
BEGIN:DAYLIGHT
TZOFFSETFROM:+0100
TZOFFSETTO:+0200
TZNAME:CEST
DTSTART:20260329T010000
END:DAYLIGHT
BEGIN:STANDARD
TZOFFSETFROM:+0200
TZOFFSETTO:+0100
TZNAME:CET
DTSTART:20261025T010000
END:STANDARD
END:VTIMEZONE
BEGIN:VEVENT
DTSTART;TZID=Europe/Paris:20260217T203000
DTEND;TZID=Europe/Paris:20260217T203000
DTSTAMP:20260421T203729
CREATED:20260202T105404Z
LAST-MODIFIED:20260202T105404Z
UID:16668-1771360200-1771360200@www.loreedelabrie.fr
SUMMARY:[CHEVRY-COSSIGNY] Spectacle « LOVE THERAPY »
DESCRIPTION:  \nSpectacle « LOVE THERAPY »\nMesdames\, vous pensez avoir tout vu\, tout vécu en amour ? Et vous\, messieurs\, persuadés d’être les maîtres du jeu ? Stop !\nCe spectacle est une bombe à retardement qui va faire exploser vos certitudes !\nInfos pratiques :\nPlein tarif : 15 €\nTarif réduit : 8 €\nRéservation : reservationspectacle@chevry-cossigny.fr\n01 83 85 98 21
URL:https://www.loreedelabrie.fr/evenement/chevry-cossigny-spectacle-love-therapy/
LOCATION:La Marmite – Chevry-Cossigny\, rue Jean Delsol\, Chevry-Cossigny\, 77173\, France
CATEGORIES:Spectacle
ATTACH;FMTTYPE=image/jpeg:https://www.loreedelabrie.fr/wp-content/uploads/tribe_events/spectacle.jpg
END:VEVENT
END:VCALENDAR