BEGIN:VCALENDAR
VERSION:2.0
PRODID:-//L&#039;Orée de la Brie - ECPv6.5.1.4//NONSGML v1.0//EN
CALSCALE:GREGORIAN
METHOD:PUBLISH
X-ORIGINAL-URL:https://www.loreedelabrie.fr
X-WR-CALDESC:Évènements pour L&#039;Orée de la Brie
REFRESH-INTERVAL;VALUE=DURATION:PT1H
X-Robots-Tag:noindex
X-PUBLISHED-TTL:PT1H
BEGIN:VTIMEZONE
TZID:Europe/Paris
BEGIN:DAYLIGHT
TZOFFSETFROM:+0100
TZOFFSETTO:+0200
TZNAME:CEST
DTSTART:20250330T010000
END:DAYLIGHT
BEGIN:STANDARD
TZOFFSETFROM:+0200
TZOFFSETTO:+0100
TZNAME:CET
DTSTART:20251026T010000
END:STANDARD
BEGIN:DAYLIGHT
TZOFFSETFROM:+0100
TZOFFSETTO:+0200
TZNAME:CEST
DTSTART:20260329T010000
END:DAYLIGHT
BEGIN:STANDARD
TZOFFSETFROM:+0200
TZOFFSETTO:+0100
TZNAME:CET
DTSTART:20261025T010000
END:STANDARD
END:VTIMEZONE
BEGIN:VEVENT
DTSTART;VALUE=DATE:20251129
DTEND;VALUE=DATE:20260104
DTSTAMP:20260421T184740
CREATED:20251210T084109Z
LAST-MODIFIED:20251210T084109Z
UID:16394-1764374400-1767484799@www.loreedelabrie.fr
SUMMARY:[BRIE-COMTE-ROBERT] Brie Conte Noël
DESCRIPTION:
URL:https://www.loreedelabrie.fr/evenement/brie-comte-robert-brie-conte-noel-2/
LOCATION:Brie-Comte-Robert\, Brie-Comte-Robert\, 77170\, France
CATEGORIES:Culture,Enfance,Festivités de fin d'année,Lecture,Marché de noël,Micro-folie,Noël,Spectacle,Théâtre
ATTACH;FMTTYPE=image/jpeg:https://www.loreedelabrie.fr/wp-content/uploads/tribe_events/Programme-Brie-Conte-Noel_Page_1.jpg
END:VEVENT
BEGIN:VEVENT
DTSTART;VALUE=DATE:20251201
DTEND;VALUE=DATE:20251225
DTSTAMP:20260421T184740
CREATED:20251126T083712Z
LAST-MODIFIED:20251126T083820Z
UID:16310-1764547200-1766620799@www.loreedelabrie.fr
SUMMARY:[CCOB] Le Grand Jeu du Calendrier de l'Avent Géant
DESCRIPTION:  \nFacebook : loreedelabrie \n 
URL:https://www.loreedelabrie.fr/evenement/ccob-calendrier-de-lavent-geant/
LOCATION:L’Orée de la Brie\, 1 rue Léonard de Vinci\, Brie-Comte-Robert\, 77170\, France
CATEGORIES:Festivités de fin d'année
ATTACH;FMTTYPE=image/jpeg:https://www.loreedelabrie.fr/wp-content/uploads/tribe_events/calendrier-de-lavent.jpg
ORGANIZER;CN="L'Or%C3%A9e de la Brie":MAILTO:communaute@loreedelabrie.fr
END:VEVENT
BEGIN:VEVENT
DTSTART;VALUE=DATE:20251205
DTEND;VALUE=DATE:20251207
DTSTAMP:20260421T184740
CREATED:20251128T134135Z
LAST-MODIFIED:20251128T134135Z
UID:16332-1764892800-1765065599@www.loreedelabrie.fr
SUMMARY:[CHEVRY-COSSIGNY] Téléthon
DESCRIPTION:  \n Découvrez le programme du Téléthon !\nEn partenariat avec les associations loocales\, Chevry-Cossigny se mobilise pour un week-end plein d’énergie\, de solidarité et de bonne humeur \nEt bonne nouvelle : tout cela se déroulera en plein cœur du marché de Noël \n\n Le 6 décembre\, venez participer aux :\n Shoot à 3 points\n Séance de Zumba\n Tournoi de badminton\n Challenge d’initiation au tennis de table\n Marche solidaire\n… et bien d’autres moments conviviaux pour petits et grands !\n\nVous y trouverez également des boîtes à dons sur différents stands\, ainsi qu’un mur participatif où chacun pourra laisser son message ou son ruban de soutien \n\nOn vous attend nombreux pour partager un moment chaleureux et solidaire !
URL:https://www.loreedelabrie.fr/evenement/chevry-cossigny-telethon/
LOCATION:Chevry-Cossigny
ATTACH;FMTTYPE=image/jpeg:https://www.loreedelabrie.fr/wp-content/uploads/tribe_events/telethon-1.jpg
END:VEVENT
BEGIN:VEVENT
DTSTART;TZID=Europe/Paris:20251205T180000
DTEND;TZID=Europe/Paris:20251206T170000
DTSTAMP:20260421T184740
CREATED:20251007T101506Z
LAST-MODIFIED:20251202T102058Z
UID:15966-1764957600-1765040400@www.loreedelabrie.fr
SUMMARY:[CHEVRY-COSSIGNY] Marché de Noël
DESCRIPTION:𝐌𝐚𝐫𝐜𝐡𝐞́ 𝐝𝐞 𝐍𝐨𝐞̈𝐥 \nPlongez dans la magie de Noël ! Rendez-vous sur la place de l’église les 5 et 6 décembre pour découvrir de nombreux exposants sur notre marché de Noël !\n\n𝑨𝒖 𝒑𝒓𝒐𝒈𝒓𝒂𝒎𝒎𝒆 :\n Déambulation du Père Noël (vendredi 18h–20h)\nChorale des enfants (vendredi 18h)\n Gospel live (vendredi 19h30–20h30)\n Feu d’artifice (vendredi 21h30)\n Photos avec le Père Noël (samedi 15h–17h)\n Atelier de Noël (samedi 14h–17h)\n Chocolat chaud et vin chaud sur place\n\nEt pour prolonger la féerie\, ne manquez pas le spectacle de Noël le dimanche 7 décembre à 15h30 à la Marmite ( gratuit sur réservation).\n\nUn week-end placé sous le signe de la joie\, du partage et de la magie des fêtes \n\n Vendredi 5 décembre de 18h à 22h\n Samedi 6 décembre de 10h à 17h\n Place de l’Église – Chevry-Cossigny
URL:https://www.loreedelabrie.fr/evenement/chevry-cossigny-marche-de-noel-2/
LOCATION:Chevry-Cossigny
CATEGORIES:Marché de noël
ATTACH;FMTTYPE=image/jpeg:https://www.loreedelabrie.fr/wp-content/uploads/tribe_events/marche-de-Noel.jpg
END:VEVENT
BEGIN:VEVENT
DTSTART;TZID=Europe/Paris:20251205T183000
DTEND;TZID=Europe/Paris:20251206T170000
DTSTAMP:20260421T184740
CREATED:20251127T092811Z
LAST-MODIFIED:20251127T092811Z
UID:16318-1764959400-1765040400@www.loreedelabrie.fr
SUMMARY:[BRIE-COMTE-ROBERT] Village Téléthon
DESCRIPTION:  \nProgramme
URL:https://www.loreedelabrie.fr/evenement/brie-comte-robert-village-telethon/
LOCATION:Brie-Comte-Robert\, Brie-Comte-Robert\, 77170\, France
ATTACH;FMTTYPE=image/jpeg:https://www.loreedelabrie.fr/wp-content/uploads/tribe_events/affiche-generale-Telethon-BCR-2025.jpg
END:VEVENT
BEGIN:VEVENT
DTSTART;VALUE=DATE:20251206
DTEND;VALUE=DATE:20251208
DTSTAMP:20260421T184740
CREATED:20251007T101224Z
LAST-MODIFIED:20251202T154204Z
UID:15964-1764979200-1765151999@www.loreedelabrie.fr
SUMMARY:[VARENNES-JARCY] Marché de Noël
DESCRIPTION:
URL:https://www.loreedelabrie.fr/evenement/varennes-jarcy-marche-de-noel-2/
LOCATION:Varennes-Jarcy
CATEGORIES:Marché de noël
ATTACH;FMTTYPE=image/jpeg:https://www.loreedelabrie.fr/wp-content/uploads/tribe_events/marche-de-Noel.jpg
END:VEVENT
BEGIN:VEVENT
DTSTART;TZID=Europe/Paris:20251206T103000
DTEND;TZID=Europe/Paris:20251206T103000
DTSTAMP:20260421T184740
CREATED:20251127T162103Z
LAST-MODIFIED:20251127T162103Z
UID:16329-1765017000-1765017000@www.loreedelabrie.fr
SUMMARY:[CHEVRY-COSSIGNY] Atelier spécial Noël lectures 3-6 ans
DESCRIPTION:  \n[ATELIER LECTURES]\n\nEnvie de profiter d’un atelier lectures de Noël avec nos bénévoles ? \n\nC’est le samedi 6 Décembre\, à partir de 10h30\, pour les enfants de 3 à 6 ans.\n\nN’hésitez pas à inscrire vos enfants à lamarmite@chevry-cossigny.fr
URL:https://www.loreedelabrie.fr/evenement/chevry-cossigny-atelier-special-noel-lectures-3-6-ans/
LOCATION:La Marmite – Chevry-Cossigny\, rue Jean Delsol\, Chevry-Cossigny\, 77173\, France
CATEGORIES:Enfance,Lecture
ATTACH;FMTTYPE=image/jpeg:https://www.loreedelabrie.fr/wp-content/uploads/tribe_events/lecture-enfants.jpg
END:VEVENT
END:VCALENDAR