BEGIN:VCALENDAR
VERSION:2.0
PRODID:-//L&#039;Orée de la Brie - ECPv6.5.1.4//NONSGML v1.0//EN
CALSCALE:GREGORIAN
METHOD:PUBLISH
X-ORIGINAL-URL:https://www.loreedelabrie.fr
X-WR-CALDESC:Évènements pour L&#039;Orée de la Brie
REFRESH-INTERVAL;VALUE=DURATION:PT1H
X-Robots-Tag:noindex
X-PUBLISHED-TTL:PT1H
BEGIN:VTIMEZONE
TZID:Europe/Paris
BEGIN:DAYLIGHT
TZOFFSETFROM:+0100
TZOFFSETTO:+0200
TZNAME:CEST
DTSTART:20250330T010000
END:DAYLIGHT
BEGIN:STANDARD
TZOFFSETFROM:+0200
TZOFFSETTO:+0100
TZNAME:CET
DTSTART:20251026T010000
END:STANDARD
END:VTIMEZONE
BEGIN:VEVENT
DTSTART;VALUE=DATE:20250401
DTEND;VALUE=DATE:20251201
DTSTAMP:20260421T170713
CREATED:20250520T130044Z
LAST-MODIFIED:20251126T082101Z
UID:15117-1743465600-1764547199@www.loreedelabrie.fr
SUMMARY:[CCOB] Prise en charge de la destruction des nids de frelons asiatiques
DESCRIPTION:La Communauté de communes de l’Orée de la Brie est consciente des enjeux sanitaires et environnementaux liés au développement des colonies de frelons asiatiques et du risque pour ses habitants et souhaite faciliter la destruction des nids de frelons asiatiques présents sur son territoire.\n\nLes élus du bureau communautaire ont décidé de maintenir et de renouveler pour l’année 2025 la convention avec l’association Groupement Sanitaire Apicole de Seine-et-Marne du 77\, qui sera effective du 1er avril 2025 au 31 décembre 2025.\nAussi\, la CCOB prend en charge les frais de destruction engagés par le GDSA 77.\n(50 € pour un nid embryon\, 80 € pour un nid à hauteur d’homme\, 150 € pour un nid en hauteur).\n\nComment en bénéficier : vous constatez un nid de frelons actif à votre domicile ou dans votre entreprise situé sur une des 4 communes de notre territoire\, vous êtes invités à contacter la CCOB au 01 60 62 15 81 puis à envoyer un mail à communaute@loreedelabrie.fr comprenant votre adresse postale\, votre numéro de téléphone portable\, la localisation du nid et dans la mesure du possible des photos du nid. La CCOB contactera le GDSA 77 qui se rapprochera de vous pour convenir d’un rdv de destruction.\n\nBon à savoir : si ce nid de frelons se situe sur le chemin des roses\, merci de contacter le syndicat du chemin des roses basé à Grisy-Suisnes. 
URL:https://www.loreedelabrie.fr/evenement/ccob-prise-en-charge-de-la-destruction-des-nids-de-frelons-asiatiques/
LOCATION:L’Orée de la Brie\, 1 rue Léonard de Vinci\, Brie-Comte-Robert\, 77170\, France
CATEGORIES:Autre,Prévention
ATTACH;FMTTYPE=image/jpeg:https://www.loreedelabrie.fr/wp-content/uploads/2018/11/Logo-CCOB-seul-2016.jpg
ORGANIZER;CN="L'Or%C3%A9e de la Brie":MAILTO:communaute@loreedelabrie.fr
END:VEVENT
BEGIN:VEVENT
DTSTART;TZID=Europe/Paris:20251108T090000
DTEND;TZID=Europe/Paris:20251109T180000
DTSTAMP:20260421T170713
CREATED:20251023T141623Z
LAST-MODIFIED:20251023T141623Z
UID:16098-1762592400-1762711200@www.loreedelabrie.fr
SUMMARY:[BRIE-COMTE-ROBERT] Mini salon de l'agriculture
DESCRIPTION:C’est le grand retour du mini salon de l’agriculture organisé par la Société Avicole Brie et Gâtinais\, en partenariat avec la ville de Brie-Comte-Robert ! C’est l’occasion pour les petits et grands de découvrir les animaux de la ferme : vaches\, chèvres\, moutons\, veaux.. \nRestauration sur place
URL:https://www.loreedelabrie.fr/evenement/brie-comte-robert-mini-salon-de-lagriculture-2/
LOCATION:salle de spectacles Le Safran\, 80 avenue Victor Hugo\, Brie-Comte-Robert\, 77170\, France
CATEGORIES:Salon
ATTACH;FMTTYPE=image/jpeg:https://www.loreedelabrie.fr/wp-content/uploads/tribe_events/salon-agriculture.jpg
END:VEVENT
BEGIN:VEVENT
DTSTART;TZID=Europe/Paris:20251109T150000
DTEND;TZID=Europe/Paris:20251109T183000
DTSTAMP:20260421T170713
CREATED:20251107T101312Z
LAST-MODIFIED:20251107T101312Z
UID:16142-1762700400-1762713000@www.loreedelabrie.fr
SUMMARY:[BRIE-COMTE-ROBERT] Opéra au cinéma : Tosca
DESCRIPTION:Dans une Rome ravagée par la guerre\, Floria Tosca et Mario Cavaradossi vivent l’un pour l’autre\, et pour leur art. Mais lorsque Cavaradossi vient en aide à un prisonnier en fuite\, les amants se font un ennemi mortel en la personne du baron Scarpia\, chef de la police. À la merci des désirs malsains de Scarpia\, Tosca doit se soumettre à un odieux marchandage : coucher avec l’homme qu’elle hait afin de sauver l’homme qu’elle aime. Parviendra-t-elle à s’en sortir ? \nUne Rome alternative et moderne sert de toile de fond à la nouvelle production incontournable et passionnante\, par Oliver Mears\, de l’œuvre haletante de Puccini.
URL:https://www.loreedelabrie.fr/evenement/brie-comte-robert-opera-au-cinema-tosca/
LOCATION:Cinéma les 4 vents – Brie-Comte-Robert\, 80 rue du Général Leclerc\, Brie-Comte-Robert\, 77170\, France
CATEGORIES:Cinéma,Concert,Culture
ATTACH;FMTTYPE=image/jpeg:https://www.loreedelabrie.fr/wp-content/uploads/tribe_events/opera-au-cinema.jpg
END:VEVENT
END:VCALENDAR